BEGIN:VCALENDAR
VERSION:2.0
PRODID:-//響ファミリーオフィス - ECPv6.0.6.2//NONSGML v1.0//EN
CALSCALE:GREGORIAN
METHOD:PUBLISH
X-WR-CALNAME:響ファミリーオフィス
X-ORIGINAL-URL:https://www.hibikifamily.com
X-WR-CALDESC:響ファミリーオフィス のイベント
REFRESH-INTERVAL;VALUE=DURATION:PT1H
X-Robots-Tag:noindex
X-PUBLISHED-TTL:PT1H
BEGIN:VTIMEZONE
TZID:Asia/Tokyo
BEGIN:STANDARD
TZOFFSETFROM:+0900
TZOFFSETTO:+0900
TZNAME:JST
DTSTART:20210101T000000
END:STANDARD
END:VTIMEZONE
BEGIN:VEVENT
DTSTART;VALUE=DATE:20211120
DTEND;VALUE=DATE:20211121
DTSTAMP:20260423T173850
CREATED:20210925T114708Z
LAST-MODIFIED:20210925T114708Z
UID:456-1637366400-1637452799@www.hibikifamily.com
SUMMARY:ミュージックステーション翼　キャンペーン
DESCRIPTION:昼の部　開場１３時　（ショー開始　１４時） \n夜の部　開場１７時　（ショー開始　１８時） \n３，８００円
URL:https://www.hibikifamily.com/event/tubasa/
END:VEVENT
BEGIN:VEVENT
DTSTART;VALUE=DATE:20211118
DTEND;VALUE=DATE:20211119
DTSTAMP:20260423T173850
CREATED:20210901T125247Z
LAST-MODIFIED:20210901T125247Z
UID:411-1637193600-1637279999@www.hibikifamily.com
SUMMARY:百花繚乱　華FUBUKI
DESCRIPTION:日本特殊陶業市民会館　フォレストホール \n入場料金　S席　5，800円　A席　5，300円　全席指定 \n 
URL:https://www.hibikifamily.com/event/fubuki-2/
ATTACH;FMTTYPE=application/pdf:https://www.hibikifamily.com/wp-content/uploads/2021/09/20210901214032-1.pdf
END:VEVENT
BEGIN:VEVENT
DTSTART;VALUE=DATE:20211115
DTEND;VALUE=DATE:20211116
DTSTAMP:20260423T173850
CREATED:20211019T120135Z
LAST-MODIFIED:20211019T120723Z
UID:475-1636934400-1637020799@www.hibikifamily.com
SUMMARY:大河内智子新曲発表会コンサートゲスト出演
DESCRIPTION:場所　大須演芸場 \n入場料　全席自由席　3，500円 \n一部　開場　12：00　開演　12：30 \n二部　開場　16：00　開演　16：30
URL:https://www.hibikifamily.com/event/ookouti/
LOCATION:大須演芸場\, 愛知県\, 名古屋市中区大須2-19-39\, 460-0011
ATTACH;FMTTYPE=application/pdf:https://www.hibikifamily.com/wp-content/uploads/2021/10/20211019204017.pdf
END:VEVENT
BEGIN:VEVENT
DTSTART;TZID=Asia/Tokyo:20211114T080000
DTEND;TZID=Asia/Tokyo:20211114T170000
DTSTAMP:20260423T173850
CREATED:20210925T114353Z
LAST-MODIFIED:20210925T114353Z
UID:454-1636876800-1636909200@www.hibikifamily.com
SUMMARY:百花繚乱　牛久市生涯学習センター
DESCRIPTION:
URL:https://www.hibikifamily.com/event/usiku/
END:VEVENT
BEGIN:VEVENT
DTSTART;VALUE=DATE:20211107
DTEND;VALUE=DATE:20211108
DTSTAMP:20260423T173850
CREATED:20210901T124944Z
LAST-MODIFIED:20210901T131719Z
UID:407-1636243200-1636329599@www.hibikifamily.com
SUMMARY:響ファミリー公演岐阜歌踊祭
DESCRIPTION:恵那市明智かえでホール \n岐阜県恵那市明智町1138-1 \n昼の部　開場　11：00　開演11：30 \n夜の部　開場　15：30　開演　16：00 \n全席指定　3，500円　　お試し立見席（枚数限定）500円
URL:https://www.hibikifamily.com/event/ena/
LOCATION:恵那市明智かえでホール\, 岐阜県\, 恵那市明智町1138-1\, 岐阜県
ATTACH;FMTTYPE=application/pdf:https://www.hibikifamily.com/wp-content/uploads/2021/09/20210901214050.pdf
END:VEVENT
BEGIN:VEVENT
DTSTART;VALUE=DATE:20211103
DTEND;VALUE=DATE:20211104
DTSTAMP:20260423T173850
CREATED:20210308T041934Z
LAST-MODIFIED:20210602T070835Z
UID:310-1635897600-1635983999@www.hibikifamily.com
SUMMARY:イベントゲスト出演
DESCRIPTION:第25回　記念公演　歌の祭典 \n  \n豊田市民文化会館  大ホール \n入場料　１，０００円　（自由席） \n開場　８：５０ \n開演　９：２０
URL:https://www.hibikifamily.com/event/toyota/
ATTACH;FMTTYPE=application/pdf:https://www.hibikifamily.com/wp-content/uploads/2021/03/20210602132727.pdf
END:VEVENT
BEGIN:VEVENT
DTSTART;VALUE=DATE:20211030
DTEND;VALUE=DATE:20211031
DTSTAMP:20260423T173850
CREATED:20210901T123548Z
LAST-MODIFIED:20210901T131739Z
UID:397-1635552000-1635638399@www.hibikifamily.com
SUMMARY:響ファミリー公演IN東金文化会館
DESCRIPTION:開場　12：00　開演　12：30 \n全席指定　4，500円（CD付き） \n千葉県東金市八坂台1-2107-3 \n 
URL:https://www.hibikifamily.com/event/tougane/
LOCATION:東金文化会館\, 千葉県\, 東金市八坂台1-2107-3
ATTACH;FMTTYPE=application/pdf:https://www.hibikifamily.com/wp-content/uploads/2021/09/20210901211947.pdf
END:VEVENT
BEGIN:VEVENT
DTSTART;VALUE=DATE:20211028
DTEND;VALUE=DATE:20211029
DTSTAMP:20260423T173850
CREATED:20210430T074510Z
LAST-MODIFIED:20210430T074510Z
UID:362-1635379200-1635465599@www.hibikifamily.com
SUMMARY:金婚式　イベント出演
DESCRIPTION:詳細未定
URL:https://www.hibikifamily.com/event/kinkonshiki/
END:VEVENT
BEGIN:VEVENT
DTSTART;VALUE=DATE:20211026
DTEND;VALUE=DATE:20211027
DTSTAMP:20260423T173850
CREATED:20210925T114104Z
LAST-MODIFIED:20210925T114104Z
UID:450-1635206400-1635292799@www.hibikifamily.com
SUMMARY:安達太良温泉　イベントゲスト出演
DESCRIPTION:
URL:https://www.hibikifamily.com/event/ada/
END:VEVENT
BEGIN:VEVENT
DTSTART;TZID=Asia/Tokyo:20211024T080000
DTEND;TZID=Asia/Tokyo:20211024T170000
DTSTAMP:20260423T173850
CREATED:20210128T021215Z
LAST-MODIFIED:20210311T112120Z
UID:267-1635062400-1635094800@www.hibikifamily.com
SUMMARY:竹の会ゲスト出演
DESCRIPTION:詳細未定
URL:https://www.hibikifamily.com/event/takenokai/
END:VEVENT
BEGIN:VEVENT
DTSTART;TZID=Asia/Tokyo:20211017T080000
DTEND;TZID=Asia/Tokyo:20211017T170000
DTSTAMP:20260423T173850
CREATED:20210128T021029Z
LAST-MODIFIED:20210128T021029Z
UID:265-1634457600-1634490000@www.hibikifamily.com
SUMMARY:イベントゲスト出演
DESCRIPTION:たまごホール \n詳細未定
URL:https://www.hibikifamily.com/event/tamago/
END:VEVENT
BEGIN:VEVENT
DTSTART;VALUE=DATE:20211016
DTEND;VALUE=DATE:20211017
DTSTAMP:20260423T173850
CREATED:20210925T113939Z
LAST-MODIFIED:20210925T113939Z
UID:448-1634342400-1634428799@www.hibikifamily.com
SUMMARY:北とぴあワークショップお披露目公演
DESCRIPTION:北とぴあ　ペガサスホール \n入場料金　１，０００円
URL:https://www.hibikifamily.com/event/kita-4/
END:VEVENT
BEGIN:VEVENT
DTSTART;TZID=Asia/Tokyo:20211011T183000
DTEND;TZID=Asia/Tokyo:20211011T203000
DTSTAMP:20260423T173850
CREATED:20210925T113832Z
LAST-MODIFIED:20210925T113832Z
UID:446-1633977000-1633984200@www.hibikifamily.com
SUMMARY:北とぴあワークショップ
DESCRIPTION:
URL:https://www.hibikifamily.com/event/kita-3/
END:VEVENT
BEGIN:VEVENT
DTSTART;VALUE=DATE:20211010
DTEND;VALUE=DATE:20211011
DTSTAMP:20260423T173850
CREATED:20210328T142055Z
LAST-MODIFIED:20210901T131805Z
UID:321-1633824000-1633910399@www.hibikifamily.com
SUMMARY:響ファミリー公演INもみじホール城山
DESCRIPTION:もみじホール城山 \n神奈川県相模原市緑区久保沢2-26-2 \n昼の部　開場　13：00　開演　13：30 \n夜の部　開場　17：00　開演　17：30 \n入場料金　S席　4，000円　A席　3，500円
URL:https://www.hibikifamily.com/event/shiroyama/
LOCATION:もみじホール城山\, 神奈川県\, 相模原市緑区久保沢2-26-2
ATTACH;FMTTYPE=application/pdf:https://www.hibikifamily.com/wp-content/uploads/2021/03/20210901211937.pdf
END:VEVENT
BEGIN:VEVENT
DTSTART;TZID=Asia/Tokyo:20211004T183000
DTEND;TZID=Asia/Tokyo:20211004T203000
DTSTAMP:20260423T173850
CREATED:20210925T113755Z
LAST-MODIFIED:20210925T113755Z
UID:444-1633372200-1633379400@www.hibikifamily.com
SUMMARY:北とぴあワークショップ
DESCRIPTION:
URL:https://www.hibikifamily.com/event/kita-2/
END:VEVENT
BEGIN:VEVENT
DTSTART;VALUE=DATE:20210930
DTEND;VALUE=DATE:20211001
DTSTAMP:20260423T173850
CREATED:20210901T123345Z
LAST-MODIFIED:20210901T131823Z
UID:394-1632960000-1633046399@www.hibikifamily.com
SUMMARY:響ファミリー公演IN西新井文化ホールギャラクシティ
DESCRIPTION:開場　12：00　開演　13：00 \n全席指定　4，500円（CD付き） \n 
URL:https://www.hibikifamily.com/event/gyaraku/
LOCATION:西新井文化ホールギャラクシティ\, 東京都\, 足立区栗原1-3-1
ATTACH;FMTTYPE=application/pdf:https://www.hibikifamily.com/wp-content/uploads/2021/09/20210901211928.pdf
END:VEVENT
BEGIN:VEVENT
DTSTART;TZID=Asia/Tokyo:20210927T183000
DTEND;TZID=Asia/Tokyo:20210927T203000
DTSTAMP:20260423T173850
CREATED:20210925T113631Z
LAST-MODIFIED:20210925T113631Z
UID:442-1632767400-1632774600@www.hibikifamily.com
SUMMARY:北とぴあワークショップ
DESCRIPTION:
URL:https://www.hibikifamily.com/event/kita/
END:VEVENT
BEGIN:VEVENT
DTSTART;VALUE=DATE:20210912
DTEND;VALUE=DATE:20210913
DTSTAMP:20260423T173850
CREATED:20210901T125732Z
LAST-MODIFIED:20210901T131920Z
UID:414-1631404800-1631491199@www.hibikifamily.com
SUMMARY:侍Ｋids　ガルロチ公演
DESCRIPTION:開場　12：30　開演　13：30 \n1ドリンク　お土産付き　5，000円 \n会場　新宿区新宿3-15-17　伊勢丹会館６F（映画ピカデリーの隣のビル） \n 
URL:https://www.hibikifamily.com/event/garuroti/
LOCATION:ガルロチ\, 東京都新宿区\, 新宿3-15-17\, 東京都
END:VEVENT
BEGIN:VEVENT
DTSTART;TZID=Asia/Tokyo:20210809T080000
DTEND;TZID=Asia/Tokyo:20210809T170000
DTSTAMP:20260423T173850
CREATED:20210716T072912Z
LAST-MODIFIED:20210723T105022Z
UID:378-1628496000-1628528400@www.hibikifamily.com
SUMMARY:浅草21世紀公演　ゲスト出演
DESCRIPTION:浅草　木馬亭　東京都台東区浅草2-7-5 \n昼の部　１３時開演　　夜の部　１６時開演 \nチケット料金　当日　２，８００円　　前売り　２，３００円 \nチケットお申し込みは響ファミリーオフィスまで！ \n03-3887-3221 \n 
URL:https://www.hibikifamily.com/event/asakusa-21/
ATTACH;FMTTYPE=application/pdf:https://www.hibikifamily.com/wp-content/uploads/2021/07/20210723193251.pdf
END:VEVENT
BEGIN:VEVENT
DTSTART;VALUE=DATE:20210721
DTEND;VALUE=DATE:20210722
DTSTAMP:20260423T173850
CREATED:20210328T142712Z
LAST-MODIFIED:20210328T142712Z
UID:323-1626825600-1626911999@www.hibikifamily.com
SUMMARY:2021年瑤の会おたのしみ発表会＆幸子の歌会
DESCRIPTION:渋谷学習センター多目的ホール \n会場10：00　　開演10：30 \n入場料2，800円 \n申し込み・お問い合わせ　　090-2151-1673　（坂本） \n  \n 
URL:https://www.hibikifamily.com/event/sakamoto/
END:VEVENT
BEGIN:VEVENT
DTSTART;VALUE=DATE:20210627
DTEND;VALUE=DATE:20210628
DTSTAMP:20260423T173850
CREATED:20210308T041231Z
LAST-MODIFIED:20210311T112332Z
UID:302-1624752000-1624838399@www.hibikifamily.com
SUMMARY:響ファミリー宮崎公演
DESCRIPTION:昼の部　12：００開場　　12：30開演 \n夜の部　16：30開場　　17：00開演 \n指定席　3，500円　　自由席　3，000円
URL:https://www.hibikifamily.com/event/miyazakikouen/
LOCATION:日向市中央公民館\, 宮崎県\, 日向市中町1-31\, 宮崎県
END:VEVENT
BEGIN:VEVENT
DTSTART;VALUE=DATE:20210617
DTEND;VALUE=DATE:20210618
DTSTAMP:20260423T173850
CREATED:20210328T143607Z
LAST-MODIFIED:20210328T143607Z
UID:329-1623888000-1623974399@www.hibikifamily.com
SUMMARY:イベント出演
DESCRIPTION:詳細は非公開
URL:https://www.hibikifamily.com/event/ibento/
END:VEVENT
BEGIN:VEVENT
DTSTART;VALUE=DATE:20210604
DTEND;VALUE=DATE:20210605
DTSTAMP:20260423T173850
CREATED:20210402T110846Z
LAST-MODIFIED:20210402T110856Z
UID:334-1622764800-1622851199@www.hibikifamily.com
SUMMARY:華FUBUKI
DESCRIPTION:ハイスタッフホール（観音寺市民会館） \n2：30PM　　　　6：30PM \n入場料　5，000円　　全席自由
URL:https://www.hibikifamily.com/event/fubuki/
ATTACH;FMTTYPE=application/pdf:https://www.hibikifamily.com/wp-content/uploads/2021/04/20210402195916-1.pdf
END:VEVENT
BEGIN:VEVENT
DTSTART;VALUE=DATE:20210504
DTEND;VALUE=DATE:20210505
DTSTAMP:20260423T173850
CREATED:20210328T143357Z
LAST-MODIFIED:20210328T143357Z
UID:327-1620086400-1620172799@www.hibikifamily.com
SUMMARY:響　彬斗バースデーイベント
DESCRIPTION:カラオケ馬道 \n東京都台東区浅草2-1-2 \n詳細未定
URL:https://www.hibikifamily.com/event/umamiti-2/
END:VEVENT
BEGIN:VEVENT
DTSTART;VALUE=DATE:20210503
DTEND;VALUE=DATE:20210504
DTSTAMP:20260423T173850
CREATED:20210430T073723Z
LAST-MODIFIED:20210430T073802Z
UID:352-1620000000-1620086399@www.hibikifamily.com
SUMMARY:撮影補助
DESCRIPTION:
URL:https://www.hibikifamily.com/event/satuei-2/
END:VEVENT
BEGIN:VEVENT
DTSTART;VALUE=DATE:20210414
DTEND;VALUE=DATE:20210418
DTSTAMP:20260423T173850
CREATED:20210328T143039Z
LAST-MODIFIED:20210328T143054Z
UID:325-1618358400-1618703999@www.hibikifamily.com
SUMMARY:石垣島
DESCRIPTION:
URL:https://www.hibikifamily.com/event/ishigakizima/
END:VEVENT
BEGIN:VEVENT
DTSTART;VALUE=DATE:20210412
DTEND;VALUE=DATE:20210415
DTSTAMP:20260423T173850
CREATED:20210402T112147Z
LAST-MODIFIED:20210402T112147Z
UID:347-1618185600-1618444799@www.hibikifamily.com
SUMMARY:撮影補助
DESCRIPTION:
URL:https://www.hibikifamily.com/event/satuei/
END:VEVENT
BEGIN:VEVENT
DTSTART;TZID=Asia/Tokyo:20210411T080000
DTEND;TZID=Asia/Tokyo:20210411T170000
DTSTAMP:20260423T173850
CREATED:20210128T011453Z
LAST-MODIFIED:20210128T015620Z
UID:257-1618128000-1618160400@www.hibikifamily.com
SUMMARY:イベントゲスト出演
DESCRIPTION:裾野文化センター \n 
URL:https://www.hibikifamily.com/event/susono/
END:VEVENT
BEGIN:VEVENT
DTSTART;TZID=Asia/Tokyo:20210329T080000
DTEND;TZID=Asia/Tokyo:20210329T170000
DTSTAMP:20260423T173850
CREATED:20210308T041606Z
LAST-MODIFIED:20210308T041628Z
UID:306-1617004800-1617037200@www.hibikifamily.com
SUMMARY:イベントゲスト出演
DESCRIPTION:会場　八芳園 \nイベントゲスト出演
URL:https://www.hibikifamily.com/event/happouen/
END:VEVENT
BEGIN:VEVENT
DTSTART;VALUE=DATE:20210328
DTEND;VALUE=DATE:20210329
DTSTAMP:20260423T173850
CREATED:20210311T113755Z
LAST-MODIFIED:20210311T113755Z
UID:318-1616889600-1616975999@www.hibikifamily.com
SUMMARY:スナックふみ　キャンペーン
DESCRIPTION:１部　14：00～　　　2部　19：00～ \n 
URL:https://www.hibikifamily.com/event/humi/
END:VEVENT
END:VCALENDAR